BEGIN:VCALENDAR
VERSION:2.0
PRODID:-//AUC - ECPv6.15.20//NONSGML v1.0//EN
CALSCALE:GREGORIAN
METHOD:PUBLISH
X-WR-CALNAME:AUC
X-ORIGINAL-URL:https://www.auc.fr
X-WR-CALDESC:Évènements pour AUC
REFRESH-INTERVAL;VALUE=DURATION:PT1H
X-Robots-Tag:noindex
X-PUBLISHED-TTL:PT1H
BEGIN:VTIMEZONE
TZID:Europe/Paris
BEGIN:DAYLIGHT
TZOFFSETFROM:+0100
TZOFFSETTO:+0200
TZNAME:CEST
DTSTART:20240331T010000
END:DAYLIGHT
BEGIN:STANDARD
TZOFFSETFROM:+0200
TZOFFSETTO:+0100
TZNAME:CET
DTSTART:20241027T010000
END:STANDARD
BEGIN:DAYLIGHT
TZOFFSETFROM:+0100
TZOFFSETTO:+0200
TZNAME:CEST
DTSTART:20250330T010000
END:DAYLIGHT
BEGIN:STANDARD
TZOFFSETFROM:+0200
TZOFFSETTO:+0100
TZNAME:CET
DTSTART:20251026T010000
END:STANDARD
BEGIN:DAYLIGHT
TZOFFSETFROM:+0100
TZOFFSETTO:+0200
TZNAME:CEST
DTSTART:20260329T010000
END:DAYLIGHT
BEGIN:STANDARD
TZOFFSETFROM:+0200
TZOFFSETTO:+0100
TZNAME:CET
DTSTART:20261025T010000
END:STANDARD
END:VTIMEZONE
BEGIN:VEVENT
DTSTART;TZID=Europe/Paris:20251129T140000
DTEND;TZID=Europe/Paris:20251129T170000
DTSTAMP:20260424T032624
CREATED:20251112T165658Z
LAST-MODIFIED:20251119T140224Z
UID:4093-1764424800-1764435600@www.auc.fr
SUMMARY:Les arts martiaux contre le cancer
DESCRIPTION:DES SALUTS POUR LA RECHERCHE \n\nOrganisé par l’Académie d’Arts Martiaux Shinkyokaï\, partenaire AUC\, ce stage pluridisciplinaire a pour but de participer à la prévention et de soutenir les chercheurs dans leur mission puisque toutes les recettes seront entièrement reversées à la recherche en cancérologie. \nLes disciplines proposées iront du Kase-Ha Karate-Do avec Grégory Lehmann\, 5ème Dan au Kung-Fu\, au Qi Gong avec Rémy Orsini\, 5ème Dan SKK\, sans oublier le Shinkyokaï grâce à JB Chikhi-Budjeia\, 5ème Dan\, et le yoga avec Jessie Orsini. \nUne belle après-midi\, pour une cause essentielle. On vous attend nombreux ! \nTarifs : Adolescents et adultes : 20 € – Enfants (7-10 ans) : 5 € \nHoraires : De 14h à 17h (accueil des participants à 13h30) à la Maison des Arts de Combat\, avenue Henri Moisson (Val de l’Arc) 13100 Aix-en-Provence. \nRéservations : Shinkyokaï 06 11 19 36 52//06 14 49 56 02  ou par mail à shinkyokai.academie@gmail.com \n  \n  \n  \n\n  \n\n 
URL:https://www.auc.fr/agenda/les-arts-martiaux-contre-le-cancer/
LOCATION:Maison des Arts de Combat\, Complexe sportif du Val de l'Arc\, Aix-en-Provence\, 13100
CATEGORIES:A.U.C,Accueil,Karaté
ATTACH;FMTTYPE=image/png:https://www.auc.fr/wp-content/uploads/2025/10/karate_020.png
END:VEVENT
END:VCALENDAR